Workbook
Name AXL_Debt: [1]AXL_BS!$B$65
Name AXL_Debt: [2]AXL_BS!$B$65
Name BEA_Debt: #REF!
Name BEA_Debt: #REF!
Name BEA_Debt: #REF!
Name BEA_Debt: #REF!
Name BEA_Debt: #REF!
Name BEA_Debt: #REF!
Name BEA_Debt: #REF!
Name BEA_Debt: #REF!
Name BEA_Debt: #REF!
Name BWA_Debt: [1]BWA_BS!$B$111
Name BWA_Debt: [2]BWA_BS!$B$111
Name DAN_Debt: [1]DAN_BS!$B$94
Name DAN_Debt: [2]DAN_BS!$B$94
Name GNTX_NCI: [1]GNTX_LTM!$E$13
Name GNTX_NCI: [2]GNTX_LTM!$E$13
Name GNTX_Net_Debt: [1]GNTX_LTM!$E$11
Name GNTX_Net_Debt: [2]GNTX_LTM!$E$11
Name GNTX_PS: [1]GNTX_LTM!$E$12
Name GNTX_PS: [2]GNTX_LTM!$E$12
Name IQ_CH: 110000
Name IQ_CQ: 5000
Name IQ_CY: 10000
Name IQ_DAILY: 500000
Name IQ_FH: 100000
Name IQ_FQ: 500
Name IQ_FY: 1000
Name IQ_LTM: 2000
Name IQ_MONTH: 15000
Name IQ_NTM: 6000
Name IQ_WEEK: 50000
Name IQ_YTD: 3000
Name Krispy_Cash_LQ: [3]KKD_BS_LQ!$B$3
Name Krispy_Cash_LQ: #REF!
Name Krispy_Cash_LQ: [3]KKD_BS_LQ!$B$3
Name Krispy_Cash_LQ: [3]KKD_BS_LQ!$B$3
Name Krispy_Cash_LQ: [3]KKD_BS_LQ!$B$3
Name Krispy_Cash_LQ: [3]KKD_BS_LQ!$B$3
Name Krispy_Cash_LQ: [3]KKD_BS_LQ!$B$3
Name Krispy_Cash_LQ: [3]KKD_BS_LQ!$B$3
Name Krispy_Cash_LQ: [4]KKD_BS_LQ!$B$3
Name Krispy_EBITDA_LTM: [3]KKD_LTM!$E$6
Name Krispy_EBITDA_LTM: [3]KKD_LTM!$E$6
Name Krispy_EBITDA_LTM: [3]KKD_LTM!$E$6
Name Krispy_EBITDA_LTM: [3]KKD_LTM!$E$6
Name Krispy_EBITDA_LTM: [3]KKD_LTM!$E$6
Name Krispy_EBITDA_LTM: [3]KKD_LTM!$E$6
Name Krispy_EBITDA_LTM: [3]KKD_LTM!$E$6
Name Krispy_EBITDA_LTM: [4]KKD_LTM!$E$6
Name LEA_Debt: [1]LEA_BS!$B$58
Name LEA_Debt: [2]LEA_BS!$B$58
Name THRM_Debt: [1]THRM_BS!$B$78
Name THRM_Debt: [2]THRM_BS!$B$78
Name VC_Debt: [1]VC_BS!$B$109
Name VC_Debt: [2]VC_BS!$B$109

Sheet Possible_Comps
B2: Sector | C2: Consumer Cyclical
B3: Industry | C3: Travel Services
B5: Source | C5: Peers
B6: Proxy Statement | C6: Activision Blizzard, Inc. Booking Holdings, Inc. Alliance Data Systems Corporation eBay, Inc. Electronic Arts Inc. First Data Corporation Hilton Worldwide Holdings, Inc. Intuit Inc. Marriott International Inc. PayPal Holdings, Inc. salesforce.com, inc. TripAdvisor, Inc. Vmware, Inc Zillow Group, Inc.
B7: MorningStar | C7: Bookings Holding Inc.
B8: Mergent Equity Report | C8: Sabre Corp Boyd Gaming Corp. Viad Corp
B9: Seeking Alpha | C9: Trip.com Group Ltd

Sheet Selecting_Comps
B2: List of Possible Competitors | C2: Source | D2: Business Description
B3: BKNG | C3: Morningstar | D3: Booking is the world’s largest online travel agency by revenue, offering booking services for hotel and vacation rooms, airline tickets, rental cars, restaurant reservations, cruises, experiences, and other vacation packages. The company operates a number of branded travel booking sites, including Priceline.com, Booking.com, Agoda, OpenTable, and Rentalcars.com, and has expanded into travel media with the acquisitions of Kayak and Momondo. Transaction fees for online bookings account for the bulk of revenue and profits.
B4: TRIP | C4: Proxy Statement | D4: TripAdvisor is the world’s leading travel metasearch company. The website offers 859 million reviews and information on 8.6 million accommodations, restaurants, experiences, airlines, and cruises. At the end of 2019, TripAdvisor hosted a leading 345,000 online bookable experiences. In 2019, 60% of revenue came from the company's hotel, media and platform segment, which includes hotel revenue generated through advertising on its metasearch platform as well as commissions received on its Instant Booking platform. Experiences and dining represented 29% of revenue with the remainder consisting of flight, rental, and non-branded TripAdvisor sales.
B5: SABR | C5: Mergent | D5: Sabre holds the number-two share of global distribution system air bookings (38.8% as of the end of 2019 versus 37.1% in 2018). The global distribution system segment represented 73% of total 2019 revenue. The company also has a growing IT solutions division (27% of revenue) that focuses on the airline, hospitality, and travel agent end markets. Transaction fees, which are tied to volume and not price, account for the bulk of revenue and profits.
B6: TCOM | C6: Seeking Alpha | D6: Ctrip.com is the largest online travel agency in China. The company generates about 82% of sales by serving as a consolidator for hotel reservations and air ticketing transactions. The rest of Ctrip's revenue comes from package tours and corporate travel. More than 80% of its sales come through websites and mobile platforms, while the rest come from call centers. The company was founded in 1999 and listed on the Nasdaq in December 2003.

Sheet Financial Ratios 
B2: Expedia (EXPE) Financial Ratios
C4: 2015 | D4: =C4+1 -> 2016 | E4: =D4+1 -> 2017 | F4: =E4+1 -> 2018 | G4: =F4+1 -> 2019 | H4: Industry Average
A5: Liquidity
B6: Quick Ratio | C6: ='Balance Sheet'!B27/'Balance Sheet'!B51 -> 0.50265819 | D6: ='Balance Sheet'!C27/'Balance Sheet'!C51 -> 0.56310421 | E6: ='Balance Sheet'!D27/'Balance Sheet'!D51 -> 0.70311042 | F6: ='Balance Sheet'!E27/'Balance Sheet'!E51 -> 0.64478908 | G6: ='Balance Sheet'!F27/'Balance Sheet'!F51 -> 0.72195259 | H6: ='Comparisons 2018'!B43 -> 0.84
A8: Activity/Efficiency
B9: Inventory Days | C9: N/A | D9: 0 | E9: 0 | F9: 0 | G9: 0 | H9: =365/'Comparisons 2018'!C43 -> 6.0131796
B10: Asset Turnover | C10: N/A | D10: ='Income Statement'!C16/AVERAGE('Balance Sheet'!B43:C43) -> 0.56094521 | E10: ='Income Statement'!D16/AVERAGE('Balance Sheet'!C43:D43) -> 0.58669658 | F10: ='Income Statement'!E16/AVERAGE('Balance Sheet'!D43:E43) -> 0.6141407 | G10: ='Income Statement'!F16/AVERAGE('Balance Sheet'!E43:F43) -> 0.61177723 | H10: =365/'Comparisons 2018'!C43 -> 6.0131796
B11: Fixed Asset Turnover | C11: N/A | D11: ='Income Statement'!C16/AVERAGE('Balance Sheet'!B34:C44) -> 2.619471 | E11: ='Income Statement'!D16/AVERAGE('Balance Sheet'!C34:D44) -> 2.7494508 | F11: ='Income Statement'!E16/AVERAGE('Balance Sheet'!D34:E44) -> 2.8569864 | G11: ='Income Statement'!F16/AVERAGE('Balance Sheet'!E34:F44) -> 3.0013502 | H11: -
A13: Leverage/Coverage
B14: Debt Ratio | C14: =('Balance Sheet'!B43-'Balance Sheet'!B70)/'Balance Sheet'!B43 -> 0.99578342 | D14: =('Balance Sheet'!C43-'Balance Sheet'!C70)/'Balance Sheet'!C43 -> 0.90107448 | E14: =('Balance Sheet'!D43-'Balance Sheet'!D70)/'Balance Sheet'!D43 -> 0.91324988 | F14: =('Balance Sheet'!E43-'Balance Sheet'!E70)/'Balance Sheet'!E43 -> 0.91421283 | G14: =('Balance Sheet'!F43-'Balance Sheet'!F70)/'Balance Sheet'!F43 -> 0.92673702 | H14: -
B15: Times Interest Earned | C15: ='Income Statement'!B26/'Income Statement'!B28 -> 3.277198 | D15: ='Income Statement'!C26/'Income Statement'!C28 -> 2.6665165 | E15: ='Income Statement'!D26/'Income Statement'!D28 -> 3.4402681 | F15: ='Income Statement'!E26/'Income Statement'!E28 -> 3.7578947 | G15: ='Income Statement'!F26/'Income Statement'!F28 -> 5.2196532 | H15: -
A17: Profitability
B18: ROA | C18: N/A | D18: ='Income Statement'!C53/AVERAGE('Balance Sheet'!B43:C43) -> 0.01802019 | E18: ='Income Statement'!D53/AVERAGE('Balance Sheet'!C43:D43) -> 0.022043104 | F18: ='Income Statement'!E53/AVERAGE('Balance Sheet'!D43:E43) -> 0.022216976 | G18: ='Income Statement'!F53/AVERAGE('Balance Sheet'!E43:F43) -> 0.028644579 | H18: ='Comparisons 2018'!F43/100 -> 0.0444
B19: ROE | C19: N/A | D19: ='Income Statement'!C53/AVERAGE('Balance Sheet'!B71:C71) -> 0.053064379 | E19: ='Income Statement'!D53/AVERAGE('Balance Sheet'!C71:D71) -> 0.06394426 | F19: ='Income Statement'!E53/AVERAGE('Balance Sheet'!D71:E71) -> 0.068932918 | G19: ='Income Statement'!F53/AVERAGE('Balance Sheet'!E71:F71) -> 0.1010101 | H19: ='Comparisons 2018'!G43/100 -> 0.166
A21: Decompose ROE using Dupont Identity
B22: Profit Margin | C22: ='Income Statement'!B53/'Income Statement'!B16 -> 0.11457264 | D22: ='Income Statement'!C53/'Income Statement'!C16 -> 0.032124687 | E22: ='Income Statement'!D53/'Income Statement'!D16 -> 0.037571557 | F22: ='Income Statement'!E53/'Income Statement'!E16 -> 0.036175711 | G22: ='Income Statement'!F53/'Income Statement'!F16 -> 0.046821911 | H22: ='Comparisons 2018'!H43/100 -> 0.074
B23: Asset Turnover | C23: =C10 -> N/A | D23: =D10 -> 0.56094521 | E23: =E10 -> 0.58669658 | F23: =F10 -> 0.6141407 | G23: =G10 -> 0.61177723 | H23: ='Comparisons 2018'!D43 -> 0.72
B24: Equity Multipler | C24: N/A | D24: =AVERAGE('Balance Sheet'!B43:C43)/AVERAGE('Balance Sheet'!B71:C71) -> 2.9447181 | E24: =AVERAGE('Balance Sheet'!C43:D43)/AVERAGE('Balance Sheet'!C71:D71) -> 2.9008737 | F24: =AVERAGE('Balance Sheet'!D43:E43)/AVERAGE('Balance Sheet'!D71:E71) -> 3.1027138 | G24: =AVERAGE('Balance Sheet'!E43:F43)/AVERAGE('Balance Sheet'!E71:F71) -> 3.5263252 | H24: -
D25: =PRODUCT(D22:D24) -> 0.053064379 | E25: =PRODUCT(E22:E24) -> 0.06394426 | F25: =PRODUCT(F22:F24) -> 0.068932918 | G25: =PRODUCT(G22:G24) -> 0.1010101

Sheet Football Field Chart
A1: GENTEX (GNTX) VALUATION SUMMARY
B3: Valuation date | C3: 43946
B4: Current share price | C4: 66.57
B7: Data for graph | J7: Inputs
B8: Methodology | F8: Low | G8: Dif. | H8: High | J8: Low | K8: High | M8: Current share price
B9: Public comps EV/Sales range 0.0x-0.0x | C9: ="Public compy EV/Sales range: "&TEXT(J9,"0.0x")&"-"&TEXT(K9,"0.0x") -> Public compy EV/Sales range: 2.2x-2.6x | F9: =EXPE_Comps!C21 -> 163.77008 | G9: =H9-F9 -> 33.491738 | H9: =EXPE_Comps!C22 -> 197.26181 | J9: =EXPE_Comps!G21 -> 2.2 | K9: =EXPE_Comps!G22 -> 2.6 | M9: =$C$4 -> 66.57
B10: Public comps EV/EBITDA range 0.0x-0.0x | C10: ="Public compy EV/EBITDA range: "&TEXT(J10,"0.0x")&"-"&TEXT(K10,"0.0x") -> Public compy EV/EBITDA range: 8.8x-10.8x | F10: =EXPE_Comps!C25 -> 104.89131 | G10: =H10-F10 -> 28.884606 | H10: =EXPE_Comps!C26 -> 133.77591 | J10: =EXPE_Comps!I25 -> 8.7934972 | K10: =EXPE_Comps!I26 -> 10.820189 | M10: =$C$4 -> 66.57
B11: DCF w/ perpetuity growth range 0.0%-0.0% | C11: ="DCF w/ perpetuity growth range: "&TEXT(J11,"0.0%")&"-"&TEXT(K11,"0.0%") -> DCF w/ perpetuity growth range: 1.5%-4.5% | F11: =DCF!H168 -> 285.05308 | G11: =H11-F11 -> 158.67873 | H11: =DCF!H174 -> 443.73181 | J11: =DCF!C168 -> 0.015 | K11: =DCF!C174 -> 0.045 | M11: =$C$4 -> 66.57
B12: DCF w/ EBITDA exit multiple range 0.0x-0.0x | C12: ="DCF w/ EBITDA exit multiple range: "&TEXT(J12,"0.0x")&"-"&TEXT(K12,"0.0x") -> DCF w/ EBITDA exit multiple range: 15.3x-30.3x | F12: =DCF!D159 -> 261.08637 | G12: =H12-F12 -> 215.8158 | H12: =DCF!N159 -> 476.90217 | J12: =DCF!D158 -> 15.32 | K12: =DCF!N158 -> 30.32 | M12: =$C$4 -> 66.57
B13: 52 week high-low | C13: 52 week high-low | F13: 40.76 | G13: =H13-F13 -> 103.24 | H13: 144 | M13: =$C$4 -> 66.57

Sheet EXPE_Comps
A1: Valuation with Public Comparables
A2: (Figures in millions, except for per share data)
A3: Valuation for period ended 12/31/2018
G4: Enterprise Value Multiples | M4: Equity Value Multiples
G5: _ | K5: _
E6: Market Value | F6: Enterprise | J6: Forward | K6: 5 year growth | L6: BV | M6: Forward | N6: Forward | O6: Price(Market)- | P6: Cash/MS as
A7: Company | B7: Ticker | C7: Share price | E7: of Equity | F7: Value | G7: EV/Sales | H7: EV/EBIT | I7: EV/EBITDA | J7: EPS | K7: rate | L7: Equity | M7: P/E | N7: PEG | O7: to-Book | P7: % of TA
A8: Expedia Group Inc. | B8: EXPE | C8: 66.57 | E8: 9319 | F8: =E8+SUM(EXPE_LTM!$G$11:$G$13) -> 12264 | G8: =F8/EXPE_LTM!$G$5 -> 1.0163255 | H8: =F8/EXPE_LTM!$G$6 -> 13.581395 | I8: =F8/EXPE_LTM!$G$7 -> 5.9707887 | J8: 5.85 | K8: 0.0726 | L8: 3967 | M8: =C8/J8 -> 11.379487 | N8: =M8/(K8*100) -> 1.5674225 | O8: =E8/L8 -> 2.3491303 | P8: =EXPE_LTM!$G$15/EXPE_LTM!$G$16 -> 0.19116548
A9: Bookings Holding Inc. | B9: BKNG | C9: 1362.77 | E9: 55985 | F9: =E9+SUM(BKNG_LTM!$G$11:$G$13) -> 56777 | G9: =F9/BKNG_LTM!$G$5 -> 3.7685517 | H9: =F9/BKNG_LTM!$G$6 -> 10.622451 | I9: =F9/BKNG_LTM!$G$7 -> 9.7655659 | J9: 101.39 | K9: 0.0565 | L9: 5933 | M9: =C9/J9 -> 13.440872 | N9: =M9/(K9*100) -> 2.3789154 | O9: =E9/L9 -> 9.4362043 | P9: =BKNG_LTM!$G$15/BKNG_LTM!$G$16 -> 0.34155686
A10: TripAdvisor, Inc. | B10: TRIP | C10: 18.44 | E10: 2509 | F10: =E10+SUM(TRIP_LTM!$G$11:$G$13) -> 2190 | G10: =F10/TRIP_LTM!$G$5 -> 1.4038462 | H10: =F10/TRIP_LTM!$G$6 -> 11.71123 | I10: =F10/TRIP_LTM!$G$7 -> 7.8214286 | J10: 1.52 | K10: 0.0015 | L10: 1161 | M10: =C10/J10 -> 12.131579 | N10: =M10/(K10*100) -> 80.877193 | O10: =E10/L10 -> 2.161068 | P10: =TRIP_LTM!$G$15/TRIP_LTM!$G$16 -> 0.16078629
A11: Sabre Corp | B11: SABR | C11: 5.59 | E11: 1530 | F11: =E11+SUM(SABR_LTM!$G$11:$G$13) -> 4445.84 | G11: =F11/SABR_LTM!$G$5 -> 1.1184509 | H11: =F11/SABR_LTM!$G$6 -> 12.23344 | I11: =F11/SABR_LTM!$G$7 -> 5.7141682 | J11: 0.15 | K11: 0.0521 | L11: 939 | M11: =C11/J11 -> 37.266667 | N11: =M11/(K11*100) -> 7.1529111 | O11: =E11/L11 -> 1.629393 | P11: =SABR_LTM!$G$15/SABR_LTM!$G$16 -> 0.07665717
A12: Trip.com Group Ltd | B12: TCOM | C12: 23.78 | E12: 14103 | F12: =E12+SUM(TCOM_LTM!$G$11:$G$13) -> 18601 | G12: =F12/TCOM_LTM!$G$5 -> 3.6266329 | H12: =F12/TCOM_LTM!$G$6 -> 25.727524 | I12: =F12/TCOM_LTM!$G$7 -> 19.979592 | J12: 10.33 | K12: 0.1294 | L12: 103442 | M12: =C12/J12 -> 2.3020329 | N12: =M12/(K12*100) -> 0.17790053 | O12: =E12/L12 -> 0.13633727 | P12: =TCOM_LTM!$G$15/TCOM_LTM!$G$16 -> 0.10865331
F14: High | G14: =MAX(G9:G12) -> 3.7685517 | H14: =MAX(H9:H12) -> 25.727524 | I14: =MAX(I9:I12) -> 19.979592 | M14: =MAX(M9:M12) -> 37.266667 | N14: =MAX(N9:N12) -> 80.877193 | O14: =MAX(O9:O12) -> 9.4362043 | P14: =MAX(P9:P12) -> 0.34155686
F15: Mean | G15: =AVERAGE(G9:G12) -> 2.4793704 | H15: =AVERAGE(H9:H12) -> 15.073661 | I15: =AVERAGE(I9:I12) -> 10.820189 | M15: =AVERAGE(M9:M12) -> 16.285288 | N15: =AVERAGE(N9:N12) -> 22.64673 | O15: =AVERAGE(O9:O12) -> 3.3407506 | P15: =AVERAGE(P9:P12) -> 0.17191341
F16: Median | G16: =MEDIAN(G9:G12) -> 2.5152395 | H16: =MEDIAN(H9:H12) -> 11.972335 | I16: =MEDIAN(I9:I12) -> 8.7934972 | M16: =MEDIAN(M9:M12) -> 12.786225 | N16: =MEDIAN(N9:N12) -> 4.7659132 | O16: =MEDIAN(O9:O12) -> 1.8952305 | P16: =MEDIAN(P9:P12) -> 0.1347198
F17: Low | G17: =MIN(G9:G12) -> 1.1184509 | H17: =MIN(H9:H12) -> 10.622451 | I17: =MIN(I9:I12) -> 5.7141682 | M17: =MIN(M9:M12) -> 2.3020329 | N17: =MIN(N9:N12) -> 0.17790053 | O17: =MIN(O9:O12) -> 0.13633727 | P17: =MIN(P9:P12) -> 0.07665717
C20: Implied price per share | D20: Diluted shares outstanding | E20: Implied Equity Value | F20: Implied Enterprise Value | G20: Range of EV/Sales | H20: Range of EV/EBIT | I20: Range of EV/EBITDA | M20: Range of Forward P/E | N20: Range of Forward PEG | O20: Range of Price-to-Book | P20: Excess Cash
A21: Expedia Group Inc. | C21: =E21/D21 -> 163.77008 | D21: =DCF!$I$51/1000 -> 144.11912 | E21: =F21-SUM(EXPE_LTM!$G$11:$G$13) -> 23602.4 | F21: =G21*EXPE_LTM!$G$5 -> 26547.4 | G21: 2.2 | P21: =MAX(EXPE_LTM!G15-(EXPE_Comps!P15*EXPE_LTM!G16),0) -> 412.30244
C22: =E22/D22 -> 197.26181 | D22: =DCF!$I$51/1000 -> 144.11912 | E22: =F22-SUM(EXPE_LTM!$G$11:$G$13) -> 28429.2 | F22: =G22*EXPE_LTM!$G$5 -> 31374.2 | G22: 2.6
C23: =E23/D23 -> 54.579976 | D23: =DCF!$I$51/1000 -> 144.11912 | E23: =F23-SUM(EXPE_LTM!$G$11:$G$13) -> 7866.0184 | F23: =H23*EXPE_LTM!$G$6 -> 10811.018 | H23: =H16 -> 11.972335
C24: =E24/D24 -> 74.011802 | D24: =DCF!$I$51/1000 -> 144.11912 | E24: =F24-SUM(EXPE_LTM!$G$11:$G$13) -> 10666.516 | F24: =H24*EXPE_LTM!$G$6 -> 13611.516 | H24: =H15 -> 15.073661
C25: =E25/D25 -> 104.89131 | D25: =DCF!$I$51/1000 -> 144.11912 | E25: =F25-SUM(EXPE_LTM!$G$11:$G$13) -> 15116.843 | F25: =I25*EXPE_LTM!$G$7 -> 18061.843 | I25: =I16 -> 8.7934972
C26: =E26/D26 -> 133.77591 | D26: =DCF!$I$51/1000 -> 144.11912 | E26: =F26-SUM(EXPE_LTM!$G$11:$G$13) -> 19279.667 | F26: =I26*EXPE_LTM!$G$7 -> 22224.667 | I26: =I15 -> 10.820189
C27: =M27*M8 -> 145.50069 | M27: =M16 -> 12.786225
C28: =M28*M8 -> 185.31822 | M28: =M15 -> 16.285288
C29: =N29*$K$8*$J$8*100 -> 202.4131 | N29: =N16 -> 4.7659132
C30: =N30*$K$8*$J$8*100 -> 961.82927 | N30: =N15 -> 22.64673
C31: =E31/D31 -> 91.956968 | D31: =DCF!$I$51/1000 -> 144.11912 | E31: =O31*L8 -> 13252.758 | O31: =O15 -> 3.3407506
C32: =E32/D32 -> 78.021585 | D32: =DCF!$I$51/1000 -> 144.11912 | E32: =O32*L9 -> 11244.403 | O32: =O16 -> 1.8952305

Sheet DCF
B1: Expedia (EXPE) DISCOUNTED CASH FLOWS MODEL
B2: Fiscal year ends in December USD in thousands except per share data.
B3: Brett Potomac, Cole Anderson, Justin Sandhu
A4: x | B4: FORECASTING CASH FLOWS
F6: Historical | K6: Projected
F7: 2015 | G7: =F7+1 -> 2016 | H7: =G7+1 -> 2017 | I7: =H7+1 -> 2018 | J7: =I7+1 -> 2019 | K7: =J7+1 -> 2020 | L7: =K7+1 -> 2021 | M7: =L7+1 -> 2022 | N7: =M7+1 -> 2023 | O7: =N7+1 -> 2024
B8: Revenue | F8: =VLOOKUP($B8, 'Income Statement'!$A$11:$F$66, MATCH(DCF!F$7, 'Income Statement'!$A$11:$F$11,0),FALSE) -> 6672317 | G8: =VLOOKUP($B8, 'Income Statement'!$A$11:$F$66, MATCH(DCF!G$7, 'Income Statement'!$A$11:$F$11,0),FALSE) -> 8773564 | H8: =VLOOKUP($B8, 'Income Statement'!$A$11:$F$66, MATCH(DCF!H$7, 'Income Statement'!$A$11:$F$11,0),FALSE) -> 10059844 | I8: =VLOOKUP($B8, 'Income Statement'!$A$11:$F$66, MATCH(DCF!I$7, 'Income Statement'!$A$11:$F$11,0),FALSE) -> 11223000 | J8: =VLOOKUP($B8, 'Income Statement'!$A$11:$F$66, MATCH(DCF!J$7, 'Income Statement'!$A$11:$F$11,0),FALSE) -> 12067000 | K8: =J8*(1+K28) -> 4826800 | L8: =K8*(1+L28) -> 7722880 | M8: =L8*(1+M28) -> 11970464 | N8: =M8*(1+N28) -> 12928101 | O8: =N8*(1+O28) -> 13962349
B9: Cost of revenue | F9: =VLOOKUP($B9, 'Income Statement'!$A$11:$F$66, MATCH(DCF!F$7, 'Income Statement'!$A$11:$F$11,0),FALSE) -> 1309559 | G9: =VLOOKUP($B9, 'Income Statement'!$A$11:$F$66, MATCH(DCF!G$7, 'Income Statement'!$A$11:$F$11,0),FALSE) -> 1596698 | H9: =VLOOKUP($B9, 'Income Statement'!$A$11:$F$66, MATCH(DCF!H$7, 'Income Statement'!$A$11:$F$11,0),FALSE) -> 1756531 | I9: =VLOOKUP($B9, 'Income Statement'!$A$11:$F$66, MATCH(DCF!I$7, 'Income Statement'!$A$11:$F$11,0),FALSE) -> 1965000 | J9: =VLOOKUP($B9, 'Income Statement'!$A$11:$F$66, MATCH(DCF!J$7, 'Income Statement'!$A$11:$F$11,0),FALSE) -> 2163000 | K9: =K8*K29 -> 796422 | L9: =L8*L29 -> 1293582.4 | M9: =M8*M29 -> 2034978.9 | N9: =N8*N29 -> 2230097.4 | O9: =O8*O29 -> 2443411.1
B10: Gross Profit | F10: =F8-F9 -> 5362758 | G10: =G8-G9 -> 7176866 | H10: =H8-H9 -> 8303313 | I10: =I8-I9 -> 9258000 | J10: =J8-J9 -> 9904000 | K10: =K8-K9 -> 4030378 | L10: =L8-L9 -> 6429297.6 | M10: =M8-M9 -> 9935485.1 | ... O10: =O8-O9 -> 11518938
B12: Technology & content expenses | F12: =VLOOKUP($B12, 'Income Statement'!$A$11:$F$66, MATCH(DCF!F$7, 'Income Statement'!$A$11:$F$11,0),FALSE) -> 830244 | G12: =VLOOKUP($B12, 'Income Statement'!$A$11:$F$66, MATCH(DCF!G$7, 'Income Statement'!$A$11:$F$11,0),FALSE) -> 1235019 | H12: =VLOOKUP($B12, 'Income Statement'!$A$11:$F$66, MATCH(DCF!H$7, 'Income Statement'!$A$11:$F$11,0),FALSE) -> 1386787 | I12: =VLOOKUP($B12, 'Income Statement'!$A$11:$F$66, MATCH(DCF!I$7, 'Income Statement'!$A$11:$F$11,0),FALSE) -> 1617000 | J12: =VLOOKUP($B12, 'Income Statement'!$A$11:$F$66, MATCH(DCF!J$7, 'Income Statement'!$A$11:$F$11,0),FALSE) -> 1763000 | K12: =K$8*K30 -> 482680 | L12: =L$8*L30 -> 926745.6 | M12: =M$8*M30 -> 1536209.5 | N12: =N$8*N30 -> 1766840.5 | O12: =O$8*O30 -> 2024540.6
B13: Selling & marketing expenses | F13: =VLOOKUP($B13, 'Income Statement'!$A$11:$F$66, MATCH(DCF!F$7, 'Income Statement'!$A$11:$F$11,0),FALSE) -> 3381086 | G13: =VLOOKUP($B13, 'Income Statement'!$A$11:$F$66, MATCH(DCF!G$7, 'Income Statement'!$A$11:$F$11,0),FALSE) -> 4367417 | H13: =VLOOKUP($B13, 'Income Statement'!$A$11:$F$66, MATCH(DCF!H$7, 'Income Statement'!$A$11:$F$11,0),FALSE) -> 5297832 | I13: =VLOOKUP($B13, 'Income Statement'!$A$11:$F$66, MATCH(DCF!I$7, 'Income Statement'!$A$11:$F$11,0),FALSE) -> 5767000 | J13: =VLOOKUP($B13, 'Income Statement'!$A$11:$F$66, MATCH(DCF!J$7, 'Income Statement'!$A$11:$F$11,0),FALSE) -> 6135000 | K13: =K$8*K31 -> 1254968 | L13: =L$8*L31 -> 3089152 | M13: =M$8*M31 -> 5745822.7 | N13: =N$8*N31 -> 6205488.5 | O13: =O$8*O31 -> 6701927.6
B14: General & administrative expenses | F14: =VLOOKUP($B14, 'Income Statement'!$A$11:$F$66, MATCH(DCF!F$7, 'Income Statement'!$A$11:$F$11,0),FALSE) -> 573913 | G14: =VLOOKUP($B14, 'Income Statement'!$A$11:$F$66, MATCH(DCF!G$7, 'Income Statement'!$A$11:$F$11,0),FALSE) -> 678292 | H14: =VLOOKUP($B14, 'Income Statement'!$A$11:$F$66, MATCH(DCF!H$7, 'Income Statement'!$A$11:$F$11,0),FALSE) -> 675961 | I14: =VLOOKUP($B14, 'Income Statement'!$A$11:$F$66, MATCH(DCF!I$7, 'Income Statement'!$A$11:$F$11,0),FALSE) -> 808000 | J14: =VLOOKUP($B14, 'Income Statement'!$A$11:$F$66, MATCH(DCF!J$7, 'Income Statement'!$A$11:$F$11,0),FALSE) -> 847000 | K14: =K$8*K32 -> 217206 | L14: =L$8*L32 -> 424758.4 | M14: =M$8*M32 -> 718227.84 | N14: =N$8*N32 -> 808006.32 | O14: =O$8*O32 -> 907552.7
B15: EBIT | F15: =F10-F12-F13-F14 -> 577515 | G15: =G10-G12-G13-G14 -> 896138 | H15: =H10-H12-H13-H14 -> 942733 | I15: =I10-I12-I13-I14 -> 1066000 | J15: =J10-J12-J13-J14 -> 1159000 | K15: =K10-K12-K13-K14 -> 2075524 | L15: =L10-L12-L13-L14 -> 1988641.6 | M15: =M10-M12-M13-M14 -> 1935225 | ... O15: =O10-O12-O13-O14 -> 1884917.1
B16: Taxes | C16: 0.21 | D16: 0.25 | F16: =F15*$D$16 -> 144378.75 | G16: =G15*$D$16 -> 224034.5 | H16: =H15*$D$16 -> 235683.25 | I16: =I15*$D$16 -> 266500 | J16: =J15*$D$16 -> 289750 | K16: =K15*$C$16 -> 435860.04 | L16: =L15*$C$16 -> 417614.74 | M16: =M15*$C$16 -> 406397.25 | N16: =N15*$C$16 -> 402710.35 | O16: =O15*$C$16 -> 395832.6
B17: Tax-effected EBIT | F17: =F15-F16 -> 433136.25 | G17: =G15-G16 -> 672103.5 | H17: =H15-H16 -> 707049.75 | I17: =I15-I16 -> 799500 | J17: =J15-J16 -> 869250 | K17: =K15-K16 -> 1639664 | L17: =L15-L16 -> 1571026.9 | M17: =M15-M16 -> 1528827.8 | ... O17: =O15-O16 -> 1489084.5
B19: Depreciation and amortization | F19: =('Cash Flow'!B17+'Cash Flow'!B18+'Cash Flow'!B21) -> 678413 | G19: =('Cash Flow'!C17+'Cash Flow'!C18+'Cash Flow'!C21) -> 1036619 | H19: =('Cash Flow'!D17+'Cash Flow'!D18+'Cash Flow'!D21) -> 1038894 | I19: =('Cash Flow'!E17+'Cash Flow'!E18+'Cash Flow'!E21) -> 879000 | J19: =('Cash Flow'!F17+'Cash Flow'!F18+'Cash Flow'!F21) -> 953000 | K19: =K20*K34*-1 -> 260647.2 | L19: =L20*L34*-1 -> 434412 | M19: =M20*M34*-1 -> 750847.35 | N19: =N20*N34*-1 -> 898826.23 | O19: =O20*O34*-1 -> 1070214.1
B20: Capex | F20: ='Cash Flow'!B40 -> -787041 | G20: ='Cash Flow'!C40 -> -749348 | H20: ='Cash Flow'!D40 -> -710330 | I20: ='Cash Flow'!E40 -> -878000 | J20: ='Cash Flow'!F40 -> -1160000 | K20: =K8*K33*-1 -> -289608 | L20: =L8*L33*-1 -> -463372.8 | M20: =M8*M33*-1 -> -770099.85 | N20: =N8*N33*-1 -> -887729.61 | O20: =O8*O33*-1 -> -1019251.5
B21: Change in Net Working Capital | G21: =-G72 -> -111223 | H21: =-H72 -> 608267 | I21: =-I72 -> 179662 | J21: =-J72 -> 737000 | K21: =-K72 -> -3174920 | L21: =-L72 -> 965360 | M21: =-M72 -> 2123792 | N21: =-N72 -> 478818.56 | O21: =-O72 -> 517124.04
B22: Unlevered free cash flows | F22: =SUM(F17:F21) -> 324508.25 | G22: =SUM(G17:G21) -> 848151.5 | H22: =SUM(H17:H21) -> 1643880.8 | I22: =SUM(I17:I21) -> 980162 | J22: =SUM(J17:J21) -> 1399250 | K22: =SUM(K17:K21) -> -1564216.8 | L22: =SUM(L17:L21) -> 2507426.1 | M22: =SUM(M17:M21) -> 3633367.3 | ... O22: =SUM(O17:O21) -> 2057171.2
F25: Historical | K25: Projected
F26: =F7 -> 2015 | G26: =F26+1 -> 2016 | H26: =G26+1 -> 2017 | I26: =H26+1 -> 2018 | J26: =I26+1 -> 2019 | K26: =J26+1 -> 2020 | L26: =K26+1 -> 2021 | M26: =L26+1 -> 2022 | N26: =M26+1 -> 2023 | O26: =N26+1 -> 2024
B27: Assumptions
B28: Sales Growth | G28: =(G8-F8)/F8 -> 0.31492014 | H28: =(H8-G8)/G8 -> 0.14660861 | I28: =(I8-H8)/H8 -> 0.11562366 | J28: =(J8-I8)/I8 -> 0.075202709 | K28: -0.6 | L28: 0.6 | M28: 0.55 | N28: 0.08 | O28: 0.08 | Q28: Step | R28: =(S28-L28)/($O$26-$L$26) -> -0.195 | S28: 0.015
B29: COGS (as % of revenues) | F29: =F9/F8 -> 0.1962675 | G29: =G9/G8 -> 0.18198967 | H29: =H9/H8 -> 0.17460817 | I29: =I9/I8 -> 0.17508688 | J29: =J9/J8 -> 0.17924919 | K29: 0.165 | L29: =K29+$R29 -> 0.1675 | M29: =L29+$R29 -> 0.17 | N29: =M29+$R29 -> 0.1725 | O29: =N29+$R29 -> 0.175 | Q29: Step | R29: =(S29-K29)/($O$26-$K$26) -> 0.0025 | S29: 0.175
B30: Technology & content expenses (as % of revenues) | F30: =F12/F$8 -> 0.12443114 | G30: =G12/G$8 -> 0.14076594 | H30: =H12/H$8 -> 0.13785373 | I30: =I12/I$8 -> 0.14407912 | J30: =J12/J$8 -> 0.14610094 | K30: 0.1 | L30: 0.12 | M30: =L30+$R$30 -> 0.12833333 | N30: =M30+$R$30 -> 0.13666667 | O30: =N30+$R$30 -> 0.145 | Q30: Step | R30: =(S30-L30)/($O$26-$L$26) -> 0.0083333333 | S30: 0.145
B31: Selling & marketing expenses (as % of revenues) | F31: =F13/F$8 -> 0.50673342 | G31: =G13/G$8 -> 0.4977928 | H31: =H13/H$8 -> 0.52663163 | I31: =I13/I$8 -> 0.51385548 | J31: =J13/J$8 -> 0.50841137 | K31: 0.26 | L31: 0.4 | M31: 0.48 | N31: =M31+$R$31 -> 0.48 | O31: =N31+$R$31 -> 0.48 | Q31: Step | R31: =(S31-M31)/($O$26-$M$26) -> 0 | S31: 0.48
B32: General & administrative expenses (as % of revenues) | F32: =F14/F$8 -> 0.086014049 | G32: =G14/G$8 -> 0.077310885 | H32: =H14/H$8 -> 0.067193984 | I32: =I14/I$8 -> 0.07199501 | J32: =J14/J$8 -> 0.070191431 | K32: 0.045 | L32: 0.055 | M32: 0.06 | N32: =M32+$R32 -> 0.0625 | O32: =N32+$R32 -> 0.065 | Q32: Step | R32: =(S32-M32)/($O$26-$M$26) -> 0.0025 | S32: 0.065
B33: Capex (as % of revenues) | F33: =F20/F8*-1 -> 0.11795618 | G33: =G20/G8*-1 -> 0.085409761 | H33: =H20/H8*-1 -> 0.070610439 | I33: =I20/I8*-1 -> 0.078232202 | J33: =J20/J8*-1 -> 0.096129941 | K33: 0.06 | L33: 0.06 | M33: =L33+$R33 -> 0.064333333 | N33: =M33+$R33 -> 0.068666667 | O33: =N33+$R33 -> 0.073 | Q33: Step | R33: =(S33-L33)/($O$26-$L$26) -> 0.0043333333 | S33: 0.073
B34: Depreciation and amortization (as % of capex) | F34: =F19/F20*-1 -> 0.86197924 | G34: =G19/G20*-1 -> 1.3833613 | H34: =H19/H20*-1 -> 1.4625512 | I34: =I19/I20*-1 -> 1.001139 | J34: =J19/J20*-1 -> 0.82155172 | K34: 0.9 | L34: =K34+$R34 -> 0.9375 | M34: =L34+$R34 -> 0.975 | N34: =M34+$R34 -> 1.0125 | O34: =N34+$R34 -> 1.05 | Q34: Step | R34: =(S34-K34)/($O$26-$K$26) -> 0.0375 | S34: 1.05
B35: Gross margin | F35: =F10/F8 -> 0.8037325 | G35: =G10/G8 -> 0.81801033 | H35: =H10/H8 -> 0.82539183 | I35: =I10/I8 -> 0.82491312 | J35: =J10/J8 -> 0.82075081 | K35: =K10/K8 -> 0.835 | L35: =L10/L8 -> 0.8325 | M35: =M10/M8 -> 0.83 | ... O35: =O10/O8 -> 0.825
A37: x | B37: TERMINAL VALUE AND EQUITY VALUE PER SHARE
F39: Terminal Value - Perpetuity Growth | K39: Terminal Value - Exit Multiple | P39: Option Drag
F40: WACC - for terminal value | I40: =G131 -> 0.090568804
F41: Unlevered FCF in terminal year | I41: =$O$22 -> 2057171.2 | K41: Terminal year EBITDA | N41: =O15+O19 -> 2955131.2 | P41: Implied Equity Value (Using TV) | S41: =N50 -> 58018492
F42: Terminal growth rate | I42: 0.035 | K42: Terminal year EBITDA multiple | N42: 22.82 | P42: Basic Shares | S42: =I84 -> 139989.12
F43: Terminal value | I43: =I41*(1+I42)/(I40-I42) -> 38315961 | K43: Terminal value | N43: =N41*N42 -> 67436094 | P43: Value of Options | S43: ='Options Value'!E30 -> 3348005.8
F44: WACC - current | I44: =F131 -> 0.069078256 | K44: WACC - current | N44: =F131 -> 0.069078256 | P44: Implied Equity Value per Share | S44: =(S41-S43)/(S42+I85) -> 379.34234
F45: PV of Terminal Value | I45: =PV(I44,O26-J26,0,I43)*-1 -> 27436723 | K45: PV of Terminal Value | N45: =PV(N44,O26-K26,0,N43)*-1 -> 51624329
P46: Treasury Outstanding Options
F47: PV of Unlevered Free Cash Flows | I47: =NPV(I44,K22:O22) -> 6712162.3 | K47: PV of Unlevered Free Cash Flows | N47: =NPV(N44,K22:O22) -> 6712162.3 | P47: Implied Equity Value | S47: =I50 -> 33172408
...

Sheet Options Value
B2: Valuing Options or Warrants
B3: Enter the current stock price = | E3: =DCF!S44 -> 379.34234
B4: Enter the strike price on the option = | E4: =DCF!N87 -> 102.97
B5: Enter the expiration of the option = | E5: 3.3
B6: Enter the standard deviation in stock prices = | E6: 0.3281 | F6: (volatility)
B7: Enter the annualized dividend yield on stock = | E7: 0.0111
B8: Enter the treasury bond rate = | E8: 0.0063
B9: Enter the number of options outstanding = | E9: =DCF!N86 -> 13115
B10: Enter the number of shares outstanding = | E10: =DCF!I84 -> 139989.12
B12: Circuit Breaker | C12: OFF
B14: Do not input any numbers below this line
B15: VALUING WARRANTS WHEN THERE IS DILUTION
B16: Stock Price= | D16: =E3 -> 379.34234 | E16: # Warrants issued= | G16: =E9 -> 13115
B17: Strike Price= | D17: =E4 -> 102.97 | E17: # Shares outstanding= | G17: =E10 -> 139989.12
B18: Adjusted S = | D18: =(D16*G17+D29*G16)/(G17+G16) -> 368.71513 | E18: T.Bond rate= | G18: =E8 -> 0.0063
B19: Adjusted K = | D19: =D17 -> 102.97 | E19: Variance= | G19: =E6^2 -> 0.10764961
B20: Expiration (in years) = | D20: =E5 -> 3.3 | E20: Annualized dividend yield= | G20: =E7 -> 0.0111
E21: Div. Adj. interest rate= | G21: =G18-G20 -> -0.0048
B23: d1 = | C23: =(LN(D18/D19)+(G21+(G19/2))*D20)/(((G19)^(0.5))*(D20^0.5)) -> 2.4115981
B24: N (d1) = | C24: =NORMSDIST(C23) -> 0.99205861
B26: d2 = | C26: =C23-((G19^0.5)*(D20^(0.5))) -> 1.8155748
B27: N (d2) = | C27: =NORMSDIST(C26) -> 0.96528219
B29: Value per option = | D29: =IF(C12="OFF",((EXP((0-G20)*D20))*D18*C24-D19*(EXP((0-G18)*D20))*C27),0) -> 255.28066
B30: Value of all options outstanding = | E30: =D29*E9 -> 3348005.8

Sheet Balance Sheet
A4: Powered by Clearbit
A5: Expedia Group Inc (NMS: EXPE)
A7: Exchange rate used is that of the Year End reported date
A10: As Reported Annual Balance Sheet
A11: Report Date | B11: 2015 | C11: 2016 | D11: 2017 | E11: 2018 | F11: 2019
A12: Currency | B12: USD | C12: USD | D12: USD | E12: USD | F12: USD
A13: Audit Status | B13: Not Qualified | C13: Not Qualified | D13: Not Qualified | E13: Not Available | F13: Not Qualified
A14: Consolidated | B14: Yes | C14: Yes | D14: Yes | E14: Yes | F14: Yes
A15: Scale | B15: Thousands | C15: Thousands | D15: Thousands | E15: Thousands | F15: Thousands
A16: Cash & cash equivalents | B16: 1676299 | C16: 1796811 | D16: 2846729 | E16: 2443000 | F16: 3315000
A17: Restricted cash & cash equivalents | B17: 11324 | C17: 18733 | D17: 69055 | E17: 259000 | F17: 779000
A18: Short-term investments | B18: 33739 | C18: 72313 | D18: 468508 | E18: 28000 | F18: 526000
A19: Accounts receivables, gross | B19: - | C19: - | D19: - | E19: 2185000 | F19: 2565000
A20: Less: allowance for doubtful accounts | B20: - | C20: - | D20: - | E20: 34000 | F20: 41000
A21: Accounts receivables, net | B21: - | C21: - | D21: - | E21: 2151000 | F21: 2524000
A22: Accounts & notes receivable, gross | B22: 1109441 | C22: 1368525 | D22: 1896691 | E22: - | F22: -
A23: Less: allowance for doubtful accounts | B23: 27035 | C23: 25278 | D23: 30696 | E23: - | F23: -
A24: Accounts & notes receivable, net | B24: 1082406 | C24: 1343247 | D24: 1865995 | E24: - | F24: -
A25: Income taxes receivable | B25: 13805 | C25: 19402 | D25: 20633 | E25: 24000 | F25: 70000
A26: Prepaid expenses & other current assets | B26: 161188 | C26: 199745 | D26: 268669 | E26: 292000 | F26: 521000
A27: Total current assets | B27: 2978761 | C27: 3450251 | D27: 5539589 | E27: 5197000 | F27: 7735000
A28: Capitalized software development | B28: 1220822 | C28: 1606960 | D28: 2111262 | E28: 2643000 | F28: 2947000
A29: Computer equipment | B29: 485074 | C29: 665652 | D29: 658031 | E29: 597000 | F29: 643000
A30: Furniture & other equipment | B30: 65939 | C30: 72811 | D30: 84509 | E30: 94000 | F30: 114000
A31: Leasehold improvements | B31: 199604 | C31: 241713 | D31: 282865 | E31: - | F31: -
A32: Buildings & leasehold improvements | B32: - | C32: - | D32: - | E32: 435000 | F32: 688000
A33: Land | B33: 130725 | C33: 130812 | D33: 129049 | E33: 129000 | F33: 129000
A34: Total property & equipment, gross | B34: 2102164 | C34: 2717948 | D34: 3265716 | E34: 3898000 | F34: 4521000
A35: Less: accumulated depreciation | B35: 1201744 | C35: 1575879 | D35: 2055720 | E35: 2552000 | F35: 2833000
A36: Projects in progress | B36: 163839 | C36: 252835 | D36: 365262 | E36: 531000 | F36: 510000
A37: Property & equipment, net | B37: 1064259 | C37: 1394904 | D37: 1575258 | E37: 1877000 | F37: 2198000
A38: Operating lease right-of-use assets | B38: - | C38: - | D38: - | E38: - | F38: 611000
A39: Long-term investments & other assets | B39: 658439 | C39: 520058 | D39: 845450 | E39: 778000 | F39: 796000
A40: Deferred income taxes | B40: 15458 | C40: 23658 | D40: 17930 | E40: 69000 | F40: 145000
A41: Intangible assets, net | B41: 2793954 | C41: 2446652 | D41: 2308536 | E41: 1992000 | F41: 1804000
A42: Goodwill | B42: 7992941 | C42: 7942023 | D42: 8228865 | E42: 8120000 | F42: 8127000
A43: Total assets | B43: 15503812 | C43: 15777546 | D43: 18515628 | E43: 18033000 | F43: 21416000
A44: Accounts payable, merchant | B44: 1329870 | C44: 1509313 | D44: 1837936 | E44: 1699000 | F44: 1921000
A45: Accounts payable, other | B45: 485557 | C45: 577012 | D45: 697560 | E45: 788000 | F45: 906000
A46: Deferred merchant bookings | B46: 2337037 | C46: 2617791 | D46: 3219279 | E46: 4327000 | F46: 5679000
...

Sheet Income Statement
A4: Powered by Clearbit
A5: Expedia Group Inc (NMS: EXPE)
A7: Exchange rate used is that of the Year End reported date
A10: As Reported Annual Income Statement
A11: Report Date | B11: 2015 | C11: 2016 | D11: 2017 | E11: 2018 | F11: 2019
A12: Currency | B12: USD | C12: USD | D12: USD | E12: USD | F12: USD
A13: Audit Status | B13: Not Qualified | C13: Not Qualified | D13: Not Qualified | E13: Not Available | F13: Not Qualified
A14: Consolidated | B14: Yes | C14: Yes | D14: Yes | E14: Yes | F14: Yes
A15: Scale | B15: Thousands | C15: Thousands | D15: Thousands | E15: Thousands | F15: Thousands
A16: Revenue | B16: 6672317 | C16: 8773564 | D16: 10059844 | E16: 11223000 | F16: 12067000
A17: Cost of revenue | B17: 1309559 | C17: 1596698 | D17: 1756531 | E17: 1965000 | F17: 2163000
A18: Selling & marketing expenses | B18: 3381086 | C18: 4367417 | D18: 5297832 | E18: 5767000 | F18: 6135000
A19: Technology & content expenses | B19: 830244 | C19: 1235019 | D19: 1386787 | E19: 1617000 | F19: 1763000
A20: General & administrative expenses | B20: 573913 | C20: 678292 | D20: 675961 | E20: 808000 | F20: 847000
A21: Amortization of intangible assets | B21: 163665 | C21: 317141 | D21: 275445 | E21: 283000 | F21: 198000
A22: Impairment of goodwill | B22: - | C22: - | D22: - | E22: 86000 | F22: -
A23: Impairment of intangible assets | B23: - | C23: 34890 | D23: - | E23: 42000 | F23: -
A24: Legal reserves, occupancy tax & other expenses | B24: -104587 | C24: 26498 | D24: 25412 | E24: -59000 | F24: 34000
A25: Restructuring & related reorganization charges | B25: 104871 | C25: 55907 | D25: 16738 | E25: - | F25: 24000
A26: Operating income (loss) | B26: 413566 | C26: 461702 | D26: 625138 | E26: 714000 | F26: 903000
A27: Interest income | B27: 16695 | C27: 19726 | D27: 34137 | E27: 71000 | F27: 59000
A28: Interest expense | B28: 126195 | C28: 173148 | D28: 181712 | E28: 190000 | F28: 173000
A29: Gain on sale of business | B29: 508810 | C29: - | D29: - | E29: - | F29: -
A30: Foreign exchange rate gains (losses), net | B30: 24787 | C30: -15244 | D30: -45614 | E30: 3000 | F30: -34000
A31: Noncontrolling investment basis adjustment | B31: -77400 | C31: - | D31: -1678 | E31: - | F31: -
A32: Losses on minority equity investments, net | B32: - | C32: - | D32: - | E32: 111000 | F32: -8000
A33: Other-then-temporary investment impairment | B33: - | C33: 12117 | D33: - | E33: - | F33: -
A34: Loss on investments, net | B34: - | C34: - | D34: -14318 | E34: - | F34: -
A35: Equity gains (losses) in unconsolidated affiliates | B35: -13 | C35: -1490 | D35: 232 | E35: - | F35: -
A36: Other income (expense) | B36: 10912 | C36: -2829 | D36: -2777 | E36: -2000 | F36: 12000
A37: Other income (expense), net | B37: 113086 | C37: -31680 | D37: -60799 | E37: -110000 | F37: -14000
A38: Total other income (expense), net | B38: 512396 | C38: -185102 | D38: -208374 | E38: -229000 | F38: -128000
A39: Income (loss) before income taxes - United States | B39: 24397 | C39: -47205 | D39: -44867 | E39: 32000 | F39: 172000
A40: Income (loss) before income taxes - foreign | B40: 901565 | C40: 323805 | D40: 461631 | E40: 453000 | F40: 603000
A41: Income (loss) before income taxes | B41: 925962 | C41: 276600 | D41: 416764 | E41: 485000 | F41: 775000
A42: Current federal income tax expense (benefit) | B42: 154050 | C42: -41418 | D42: 12671 | E42: 186000 | F42: 76000
A43: Current state income tax expense (benefit) | B43: 1440 | C43: 5875 | D43: 5862 | E43: 42000 | F43: 20000
A44: Current foreign income tax expense (benefit) | B44: 69359 | C44: 64946 | D44: 130180 | E44: 167000 | F44: 198000
A45: Current income tax expense (benefit) | B45: 224849 | C45: 29403 | D45: 148713 | E45: 395000 | F45: 294000
A46: Deferred federal income tax expense (benefit) | B46: -6865 | C46: -5166 | D46: -93842 | E46: -273000 | F46: -53000
...

Sheet Cash Flow
A4: Powered by Clearbit
A5: Expedia Group Inc (NMS: EXPE)
A7: Exchange rate used is that of the Year End reported date
A10: As Reported Annual Cash Flow
A11: Report Date | B11: 2015 | C11: 2016 | D11: 2017 | E11: 2018 | F11: 2019
A12: Currency | B12: USD | C12: USD | D12: USD | E12: USD | F12: USD
A13: Audit Status | B13: Not Qualified | C13: Not Qualified | D13: Not Qualified | E13: Not Available | F13: Not Qualified
A14: Consolidated | B14: Yes | C14: Yes | D14: Yes | E14: Yes | F14: Yes
A15: Scale | B15: Thousands | C15: Thousands | D15: Thousands | E15: Thousands | F15: Thousands
A16: Net income (loss) | B16: 722748 | C16: 261285 | D16: 371359 | E16: 398000 | F16: 572000
A17: Depreciation of property & equipment, including internal-use software & website development | B17: 336680 | C17: 477061 | D17: 614099 | E17: 676000 | F17: 712000
A18: Amortization of stock-based compensation | B18: 178068 | C18: 242417 | D18: 149350 | E18: 203000 | F18: 241000
A19: Amortization & impairment of intangible assets | B19: - | C19: - | D19: - | E19: 325000 | F19: 198000
A20: Impairment of goodwill | B20: - | C20: - | D20: - | E20: 86000 | F20: -
A21: Amortization of intangible assets | B21: 163665 | C21: 317141 | D21: 275445 | E21: 0 | F21: 0
A22: Impairment of intangible assets | B22: - | C22: 34890 | D22: - | E22: - | F22: -
A23: Deferred income taxes | B23: -21635 | C23: -14088 | D23: -103308 | E23: -308000 | F23: -91000
A24: Foreign exchange (gain) loss on cash, restricted cash & short-term investments, net | B24: - | C24: - | D24: - | E24: 111000 | F24: -5000
A25: Foreign exchange (gain) loss on cash, cash equivalents & short-term investments, net | B25: 88528 | C25: 16253 | D25: -78819 | E25: - | F25: -
A26: Realized loss (gain) on foreign currency fowards | B26: -54226 | C26: 53089 | D26: -6335 | E26: -31000 | F26: -22000
A27: Loss on minority equity investments, net | B27: - | C27: - | D27: - | E27: 111000 | F27: -8000
A28: Loss (gain) on sale of business | B28: -508810 | C28: - | D28: - | E28: - | F28: -
A29: Noncontrolling interest basis adjustment | B29: -77400 | C29: - | D29: -1678 | E29: - | F29: -
A30: Other net income adjustments | B30: 15865 | C30: 7555 | D30: -13660 | E30: 22000 | F30: -21000
A31: Accounts receivable | B31: -198262 | C31: -276154 | D31: -455668 | E31: -282000 | F31: -368000
A32: Prepaid expenses & other assets | B32: - | C32: - | D32: - | E32: -29000 | F32: -193000
A33: Prepaid expenses & other current assets | B33: 97701 | C33: -30198 | D33: -116768 | E33: - | F33: -
A34: Accounts payable, merchant | B34: 97248 | C34: 184398 | D34: 315989 | E34: -134000 | F34: 224000
A35: Accounts payable, other, accrued expenses & other current liabilities | B35: 194458 | C35: 79202 | D35: 256728 | E35: 196000 | F35: 254000
A36: Tax payable/receivable, net | B36: 39776 | C36: -100525 | D36: -30577 | E36: 102000 | F36: -23000
A37: Deferred merchant bookings | B37: 299534 | C37: 261402 | D37: 592912 | E37: 489000 | F37: 1342000
A38: Deferred revenue | B38: -5893 | C38: 50606 | D38: 30085 | E38: 40000 | F38: -45000
A39: Net cash flows from operating activities | B39: 1368045 | C39: 1564334 | D39: 1799154 | E39: 1975000 | F39: 2767000
A40: Capital expenditures, including internal-use software & website development | B40: -787041 | C40: -749348 | D40: -710330 | E40: -878000 | F40: -1160000
A41: Purchases of investments | B41: -521329 | C41: -45352 | D41: -1811355 | E41: -1803000 | F41: -1346000
A42: Sales & maturities of investments | B42: 410923 | C42: 60935 | D42: 1096404 | E42: 2137000 | F42: 852000
A43: Acquisitions, net of cash & restricted cash acquired | B43: - | C43: - | D43: - | E43: -53000 | F43: 80000
A44: Acquisitions, net of cash acquired | B44: -2063649 | C44: -777 | D44: -170639 | E44: - | F44: -
A45: Proceeds from sale of business, net of cash divested and disposal costs | B45: 523882 | C45: 67088 | D45: - | E45: - | F45: -
A46: Net settlement of foreign currency forwards | B46: 54226 | C46: -53089 | D46: 6335 | E46: - | F46: -
...

Sheet Common Size Balance Sheet
A4: Powered by Clearbit
A5: Expedia Group Inc (NMS: EXPE)
A7: Exchange rate used is that of the Year End reported date
A10: As Reported Annual Balance Sheet
A11: Report Date | B11: 12/31/2018 | D11: 12/31/2017 | F11: 12/31/2016 | H11: 12/31/2015 | J11: 12/31/2014
A12: Currency | B12: USD | D12: USD | F12: USD | H12: USD | J12: USD
A13: Audit Status | B13: Not Available | D13: Not Qualified | F13: Not Qualified | H13: Not Qualified | J13: Not Qualified
A14: Consolidated | B14: Yes | D14: Yes | F14: Yes | H14: Yes | J14: Yes
A15: Scale | B15: Thousands | D15: Thousands | F15: Thousands | H15: Thousands | J15: Thousands
A16: Cash & cash equivalents | B16: 2443000 | C16: =IFERROR(B16/B$43,"Missing") -> 0.13547385 | D16: 2846729 | E16: =IFERROR(D16/D$43,"Missing") -> 0.15374736 | F16: 1796811 | G16: =IFERROR(F16/F$43,"Missing") -> 0.11388406 | H16: 1676299 | I16: =IFERROR(H16/H$43,"Missing") -> 0.10812173 | J16: 1402700 | K16: =IFERROR(J16/J$43,"Missing") -> 0.1555007
A17: Restricted cash & cash equivalents | B17: 259000 | C17: =IFERROR(B17/B$43,"Missing") -> 0.014362558 | D17: 69055 | E17: =IFERROR(D17/D$43,"Missing") -> 0.0037295521 | F17: 18733 | G17: =IFERROR(F17/F$43,"Missing") -> 0.0011873203 | H17: 11324 | I17: =IFERROR(H17/H$43,"Missing") -> 0.00073040101 | J17: 34888 | K17: =IFERROR(J17/J$43,"Missing") -> 0.0038676185
A18: Short-term investments | B18: 28000 | C18: =IFERROR(B18/B$43,"Missing") -> 0.0015527089 | D18: 468508 | E18: =IFERROR(D18/D$43,"Missing") -> 0.025303382 | F18: 72313 | G18: =IFERROR(F18/F$43,"Missing") -> 0.0045832856 | H18: 33739 | I18: =IFERROR(H18/H$43,"Missing") -> 0.0021761745 | J18: 355780 | K18: =IFERROR(J18/J$43,"Missing") -> 0.039441107
A19: Accounts receivables, gross | B19: 2185000 | C19: =IFERROR(B19/B$43,"Missing") -> 0.12116675 | D19: - | E19: =IFERROR(D19/D$43,"Missing") -> Missing | F19: - | G19: =IFERROR(F19/F$43,"Missing") -> Missing | H19: - | I19: =IFERROR(H19/H$43,"Missing") -> Missing | J19: - | K19: =IFERROR(J19/J$43,"Missing") -> Missing
A20: Less: allowance for doubtful accounts | B20: 34000 | C20: =IFERROR(B20/B$43,"Missing") -> 0.0018854323 | D20: - | E20: =IFERROR(D20/D$43,"Missing") -> Missing | F20: - | G20: =IFERROR(F20/F$43,"Missing") -> Missing | H20: - | I20: =IFERROR(H20/H$43,"Missing") -> Missing | J20: - | K20: =IFERROR(J20/J$43,"Missing") -> Missing
A21: Accounts receivables, net | B21: 2151000 | C21: =IFERROR(B21/B$43,"Missing") -> 0.11928132 | D21: - | E21: =IFERROR(D21/D$43,"Missing") -> Missing | F21: - | G21: =IFERROR(F21/F$43,"Missing") -> Missing | H21: - | I21: =IFERROR(H21/H$43,"Missing") -> Missing | J21: - | K21: =IFERROR(J21/J$43,"Missing") -> Missing
A22: Accounts & notes receivable, gross | B22: - | C22: =IFERROR(B22/B$43,"Missing") -> Missing | D22: 1896691 | E22: =IFERROR(D22/D$43,"Missing") -> 0.1024373 | F22: 1368525 | G22: =IFERROR(F22/F$43,"Missing") -> 0.086738774 | H22: 1109441 | I22: =IFERROR(H22/H$43,"Missing") -> 0.07155924 | J22: 792094 | K22: =IFERROR(J22/J$43,"Missing") -> 0.087810062
A23: Less: allowance for doubtful accounts | B23: - | C23: =IFERROR(B23/B$43,"Missing") -> Missing | D23: 30696 | E23: =IFERROR(D23/D$43,"Missing") -> 0.0016578428 | F23: 25278 | G23: =IFERROR(F23/F$43,"Missing") -> 0.0016021503 | H23: 27035 | I23: =IFERROR(H23/H$43,"Missing") -> 0.0017437647 | J23: 13760 | K23: =IFERROR(J23/J$43,"Missing") -> 0.0015254079
A24: Accounts & notes receivable, net | B24: - | C24: =IFERROR(B24/B$43,"Missing") -> Missing | D24: 1865995 | E24: =IFERROR(D24/D$43,"Missing") -> 0.10077946 | F24: 1343247 | G24: =IFERROR(F24/F$43,"Missing") -> 0.085136624 | H24: 1082406 | I24: =IFERROR(H24/H$43,"Missing") -> 0.069815475 | J24: 778334 | K24: =IFERROR(J24/J$43,"Missing") -> 0.086284654
A25: Deferred income taxes | B25: - | C25: =IFERROR(B25/B$43,"Missing") -> Missing | D25: - | E25: =IFERROR(D25/D$43,"Missing") -> Missing | F25: - | G25: =IFERROR(F25/F$43,"Missing") -> Missing | H25: - | I25: =IFERROR(H25/H$43,"Missing") -> Missing | J25: 169269 | K25: =IFERROR(J25/J$43,"Missing") -> 0.018764845
A26: Income taxes receivable | B26: 24000 | C26: =IFERROR(B26/B$43,"Missing") -> 0.0013308934 | D26: 20633 | E26: =IFERROR(D26/D$43,"Missing") -> 0.0011143559 | F26: 19402 | G26: =IFERROR(F26/F$43,"Missing") -> 0.0012297223 | H26: 13805 | I26: =IFERROR(H26/H$43,"Missing") -> 0.00089042617 | J26: 17161 | K26: =IFERROR(J26/J$43,"Missing") -> 0.0019024364
A27: Prepaid expenses & other current assets | B27: 292000 | C27: =IFERROR(B27/B$43,"Missing") -> 0.016192536 | D27: 268669 | E27: =IFERROR(D27/D$43,"Missing") -> 0.014510391 | F27: 199745 | G27: =IFERROR(F27/F$43,"Missing") -> 0.01266008 | H27: 161188 | I27: =IFERROR(H27/H$43,"Missing") -> 0.010396669 | J27: 166357 | K27: =IFERROR(J27/J$43,"Missing") -> 0.018442026
A28: Total current assets | B28: 5197000 | C28: =IFERROR(B28/B$43,"Missing") -> 0.28819387 | D28: 5539589 | E28: =IFERROR(D28/D$43,"Missing") -> 0.29918451 | F28: 3450251 | G28: =IFERROR(F28/F$43,"Missing") -> 0.21868109 | H28: 2978761 | I28: =IFERROR(H28/H$43,"Missing") -> 0.19213088 | J28: 2924489 | K28: =IFERROR(J28/J$43,"Missing") -> 0.32420339
A29: Capitalized software development | B29: 2643000 | C29: =IFERROR(B29/B$43,"Missing") -> 0.14656463 | D29: 2111262 | E29: =IFERROR(D29/D$43,"Missing") -> 0.11402595 | F29: 1606960 | G29: =IFERROR(F29/F$43,"Missing") -> 0.10185107 | H29: 1220822 | I29: =IFERROR(H29/H$43,"Missing") -> 0.078743344 | J29: 1041924 | K29: =IFERROR(J29/J$43,"Missing") -> 0.11550575
A30: Computer equipment | B30: 597000 | C30: =IFERROR(B30/B$43,"Missing") -> 0.033105972 | D30: 658031 | E30: =IFERROR(D30/D$43,"Missing") -> 0.035539221 | F30: 665652 | G30: =IFERROR(F30/F$43,"Missing") -> 0.042189831 | H30: 485074 | I30: =IFERROR(H30/H$43,"Missing") -> 0.031287402 | J30: 209328 | K30: =IFERROR(J30/J$43,"Missing") -> 0.023205711
A31: Furniture & other equipment | B31: 94000 | C31: =IFERROR(B31/B$43,"Missing") -> 0.0052126657 | D31: 84509 | E31: =IFERROR(D31/D$43,"Missing") -> 0.0045641984 | F31: 72811 | G31: =IFERROR(F31/F$43,"Missing") -> 0.0046148495 | H31: 65939 | I31: =IFERROR(H31/H$43,"Missing") -> 0.004253083 | J31: 146780 | K31: =IFERROR(J31/J$43,"Missing") -> 0.016271757
A32: Leasehold improvements | B32: - | C32: =IFERROR(B32/B$43,"Missing") -> Missing | D32: 282865 | E32: =IFERROR(D32/D$43,"Missing") -> 0.015277095 | F32: 241713 | G32: =IFERROR(F32/F$43,"Missing") -> 0.015320063 | H32: 199604 | I32: =IFERROR(H32/H$43,"Missing") -> 0.012874511 | J32: 135372 | K32: =IFERROR(J32/J$43,"Missing") -> 0.015007087
A33: Buildings & leasehold improvements | B33: 435000 | C33: =IFERROR(B33/B$43,"Missing") -> 0.024122442 | D33: - | E33: =IFERROR(D33/D$43,"Missing") -> Missing | F33: - | G33: =IFERROR(F33/F$43,"Missing") -> Missing | H33: - | I33: =IFERROR(H33/H$43,"Missing") -> Missing | J33: - | K33: =IFERROR(J33/J$43,"Missing") -> Missing
A34: Land | B34: 129000 | C34: =IFERROR(B34/B$43,"Missing") -> 0.0071535518 | D34: 129049 | E34: =IFERROR(D34/D$43,"Missing") -> 0.0069697339 | F34: 130812 | G34: =IFERROR(F34/F$43,"Missing") -> 0.0082910232 | H34: 130725 | I34: =IFERROR(H34/H$43,"Missing") -> 0.0084317973 | J34: - | K34: =IFERROR(J34/J$43,"Missing") -> Missing
A35: Total property & equipment, gross | B35: 3898000 | C35: =IFERROR(B35/B$43,"Missing") -> 0.21615926 | D35: 3265716 | E35: =IFERROR(D35/D$43,"Missing") -> 0.17637619 | F35: 2717948 | G35: =IFERROR(F35/F$43,"Missing") -> 0.17226684 | H35: 2102164 | I35: =IFERROR(H35/H$43,"Missing") -> 0.13559014 | J35: 1533404 | K35: =IFERROR(J35/J$43,"Missing") -> 0.1699903
A36: Less: accumulated depreciation | B36: 2552000 | C36: =IFERROR(B36/B$43,"Missing") -> 0.14151833 | D36: 2055720 | E36: =IFERROR(D36/D$43,"Missing") -> 0.11102621 | F36: 1575879 | G36: =IFERROR(F36/F$43,"Missing") -> 0.099881122 | H36: 1201744 | I36: =IFERROR(H36/H$43,"Missing") -> 0.077512808 | J36: 1011085 | K36: =IFERROR(J36/J$43,"Missing") -> 0.112087
A37: Projects in progress | B37: 531000 | C37: =IFERROR(B37/B$43,"Missing") -> 0.029446016 | D37: 365262 | E37: =IFERROR(D37/D$43,"Missing") -> 0.019727227 | F37: 252835 | G37: =IFERROR(F37/F$43,"Missing") -> 0.016024989 | H37: 163839 | I37: =IFERROR(H37/H$43,"Missing") -> 0.010567659 | J37: 30807 | K37: =IFERROR(J37/J$43,"Missing") -> 0.0034152065
A38: Property & equipment, net | B38: 1877000 | C38: =IFERROR(B38/B$43,"Missing") -> 0.10408695 | D38: 1575258 | E38: =IFERROR(D38/D$43,"Missing") -> 0.085077212 | F38: 1394904 | G38: =IFERROR(F38/F$43,"Missing") -> 0.088410707 | H38: 1064259 | I38: =IFERROR(H38/H$43,"Missing") -> 0.068644989 | J38: 553126 | K38: =IFERROR(J38/J$43,"Missing") -> 0.061318516
A39: Long-term investments & other assets | B39: 778000 | C39: =IFERROR(B39/B$43,"Missing") -> 0.043143126 | D39: 845450 | E39: =IFERROR(D39/D$43,"Missing") -> 0.045661427 | F39: 520058 | G39: =IFERROR(F39/F$43,"Missing") -> 0.032961907 | H39: 658439 | I39: =IFERROR(H39/H$43,"Missing") -> 0.042469491 | J39: 286882 | K39: =IFERROR(J39/J$43,"Missing") -> 0.031803203
A40: Deferred income taxes | B40: 69000 | C40: =IFERROR(B40/B$43,"Missing") -> 0.0038263184 | D40: 17930 | E40: =IFERROR(D40/D$43,"Missing") -> 0.00096837115 | F40: 23658 | G40: =IFERROR(F40/F$43,"Missing") -> 0.0014994727 | H40: 15458 | I40: =IFERROR(H40/H$43,"Missing") -> 0.00099704511 | J40: 10053 | K40: =IFERROR(J40/J$43,"Missing") -> 0.0011144568
A41: Intangible assets, net | B41: 1992000 | C41: =IFERROR(B41/B$43,"Missing") -> 0.11046415 | D41: 2308536 | E41: =IFERROR(D41/D$43,"Missing") -> 0.12468041 | F41: 2446652 | G41: =IFERROR(F41/F$43,"Missing") -> 0.15507177 | H41: 2793954 | I41: =IFERROR(H41/H$43,"Missing") -> 0.18021078 | J41: 1290087 | K41: =IFERROR(J41/J$43,"Missing") -> 0.14301664
A42: Goodwill | B42: 8120000 | C42: =IFERROR(B42/B$43,"Missing") -> 0.45028559 | D42: 8228865 | E42: =IFERROR(D42/D$43,"Missing") -> 0.44442808 | F42: 7942023 | G42: =IFERROR(F42/F$43,"Missing") -> 0.50337505 | H42: 7992941 | I42: =IFERROR(H42/H$43,"Missing") -> 0.51554682 | J42: 3955901 | K42: =IFERROR(J42/J$43,"Missing") -> 0.4385438
A43: Total assets | B43: 18033000 | C43: =IFERROR(B43/B$43,"Missing") -> 1 | D43: 18515628 | E43: =IFERROR(D43/D$43,"Missing") -> 1 | F43: 15777546 | G43: =IFERROR(F43/F$43,"Missing") -> 1 | H43: 15503812 | I43: =IFERROR(H43/H$43,"Missing") -> 1 | J43: 9020538 | K43: =IFERROR(J43/J$43,"Missing") -> 1
A44: Accounts payable, merchant | B44: 1699000 | C44: =IFERROR(B44/B$43,"Missing") -> 0.094216159 | D44: 1837936 | E44: =IFERROR(D44/D$43,"Missing") -> 0.099264038 | F44: 1509313 | G44: =IFERROR(F44/F$43,"Missing") -> 0.095662088 | H44: 1329870 | I44: =IFERROR(H44/H$43,"Missing") -> 0.085776969 | J44: 1188483 | K44: =IFERROR(J44/J$43,"Missing") -> 0.13175301
A45: Accounts payable, other | B45: 788000 | C45: =IFERROR(B45/B$43,"Missing") -> 0.043697665 | D45: 697560 | E45: =IFERROR(D45/D$43,"Missing") -> 0.03767412 | F45: 577012 | G45: =IFERROR(F45/F$43,"Missing") -> 0.03657172 | H45: 485557 | I45: =IFERROR(H45/H$43,"Missing") -> 0.031318556 | J45: 361382 | K45: =IFERROR(J45/J$43,"Missing") -> 0.040062134
A46: Deferred merchant bookings | B46: 4327000 | C46: =IFERROR(B46/B$43,"Missing") -> 0.23994898 | D46: 3219279 | E46: =IFERROR(D46/D$43,"Missing") -> 0.1738682 | F46: 2617791 | G46: =IFERROR(F46/F$43,"Missing") -> 0.16591877 | H46: 2337037 | I46: =IFERROR(H46/H$43,"Missing") -> 0.15073951 | J46: 1761258 | K46: =IFERROR(J46/J$43,"Missing") -> 0.19524977
...

Sheet Common Size Income Statement
A4: Powered by Clearbit
A5: Expedia Group Inc (NMS: EXPE)
A7: Exchange rate used is that of the Year End reported date
A10: As Reported Annual Income Statement
A11: Report Date | B11: 12/31/2018 | D11: 12/31/2017 | F11: 12/31/2016 | H11: 12/31/2015 | J11: 12/31/2014
A12: Currency | B12: USD | D12: USD | F12: USD | H12: USD | J12: USD
A13: Audit Status | B13: Not Available | D13: Not Qualified | F13: Not Qualified | H13: Not Qualified | J13: Not Qualified
A14: Consolidated | B14: Yes | D14: Yes | F14: Yes | H14: Yes | J14: Yes
A15: Scale | B15: Thousands | D15: Thousands | F15: Thousands | H15: Thousands | J15: Thousands
A16: Revenue | B16: 11223000 | C16: =IFERROR(B16/B$16,"Missing") -> 1 | D16: 10059844 | E16: =IFERROR(D16/D$16,"Missing") -> 1 | F16: 8773564 | G16: =IFERROR(F16/F$16,"Missing") -> 1 | H16: 6672317 | I16: =IFERROR(H16/H$16,"Missing") -> 1 | J16: 5763485 | K16: =IFERROR(J16/J$16,"Missing") -> 1
A17: Cost of revenue | B17: 1965000 | C17: =IFERROR(B17/B$16,"Missing") -> 0.17508688 | D17: 1756531 | E17: =IFERROR(D17/D$16,"Missing") -> 0.17460817 | F17: 1596698 | G17: =IFERROR(F17/F$16,"Missing") -> 0.18198967 | H17: 1309559 | I17: =IFERROR(H17/H$16,"Missing") -> 0.1962675 | J17: 1179081 | K17: =IFERROR(J17/J$16,"Missing") -> 0.20457779
A18: Selling & marketing expenses | B18: 5767000 | C18: =IFERROR(B18/B$16,"Missing") -> 0.51385548 | D18: 5297832 | E18: =IFERROR(D18/D$16,"Missing") -> 0.52663163 | F18: 4367417 | G18: =IFERROR(F18/F$16,"Missing") -> 0.4977928 | H18: 3381086 | I18: =IFERROR(H18/H$16,"Missing") -> 0.50673342 | J18: 2808329 | K18: =IFERROR(J18/J$16,"Missing") -> 0.48726231
A19: Technology & content expenses | B19: 1617000 | C19: =IFERROR(B19/B$16,"Missing") -> 0.14407912 | D19: 1386787 | E19: =IFERROR(D19/D$16,"Missing") -> 0.13785373 | F19: 1235019 | G19: =IFERROR(F19/F$16,"Missing") -> 0.14076594 | H19: 830244 | I19: =IFERROR(H19/H$16,"Missing") -> 0.12443114 | J19: 686154 | K19: =IFERROR(J19/J$16,"Missing") -> 0.11905193
A20: General & administrative expenses | B20: 808000 | C20: =IFERROR(B20/B$16,"Missing") -> 0.07199501 | D20: 675961 | E20: =IFERROR(D20/D$16,"Missing") -> 0.067193984 | F20: 678292 | G20: =IFERROR(F20/F$16,"Missing") -> 0.077310885 | H20: 573913 | I20: =IFERROR(H20/H$16,"Missing") -> 0.086014049 | J20: 425373 | K20: =IFERROR(J20/J$16,"Missing") -> 0.073804825
A21: Amortization of intangible assets | B21: 283000 | C21: =IFERROR(B21/B$16,"Missing") -> 0.025216074 | D21: 275445 | E21: =IFERROR(D21/D$16,"Missing") -> 0.027380643 | F21: 317141 | G21: =IFERROR(F21/F$16,"Missing") -> 0.03614734 | H21: 163665 | I21: =IFERROR(H21/H$16,"Missing") -> 0.02452896 | J21: 79615 | K21: =IFERROR(J21/J$16,"Missing") -> 0.013813691
A22: Impairment of goodwill | B22: 86000 | C22: =IFERROR(B22/B$16,"Missing") -> 0.0076628352 | D22: - | E22: =IFERROR(D22/D$16,"Missing") -> Missing | F22: - | G22: =IFERROR(F22/F$16,"Missing") -> Missing | H22: - | I22: =IFERROR(H22/H$16,"Missing") -> Missing | J22: - | K22: =IFERROR(J22/J$16,"Missing") -> Missing
A23: Impairment of intangible assets | B23: 42000 | C23: =IFERROR(B23/B$16,"Missing") -> 0.0037423149 | D23: - | E23: =IFERROR(D23/D$16,"Missing") -> Missing | F23: 34890 | G23: =IFERROR(F23/F$16,"Missing") -> 0.0039767192 | H23: - | I23: =IFERROR(H23/H$16,"Missing") -> Missing | J23: - | K23: =IFERROR(J23/J$16,"Missing") -> Missing
A24: Legal reserves, occupancy tax & other expenses | B24: -59000 | C24: =IFERROR(B24/B$16,"Missing") -> -0.0052570614 | D24: 25412 | E24: =IFERROR(D24/D$16,"Missing") -> 0.0025260829 | F24: 26498 | G24: =IFERROR(F24/F$16,"Missing") -> 0.0030202093 | H24: -104587 | I24: =IFERROR(H24/H$16,"Missing") -> -0.015674765 | J24: 41539 | K24: =IFERROR(J24/J$16,"Missing") -> 0.0072072713
A25: Restructuring & related reorganization charges | B25: - | C25: =IFERROR(B25/B$16,"Missing") -> Missing | D25: 16738 | E25: =IFERROR(D25/D$16,"Missing") -> 0.0016638429 | F25: 55907 | G25: =IFERROR(F25/F$16,"Missing") -> 0.0063722109 | H25: 104871 | I25: =IFERROR(H25/H$16,"Missing") -> 0.015717329 | J25: 25630 | K25: =IFERROR(J25/J$16,"Missing") -> 0.0044469622
A26: Operating income (loss) | B26: 714000 | C26: =IFERROR(B26/B$16,"Missing") -> 0.063619353 | D26: 625138 | E26: =IFERROR(D26/D$16,"Missing") -> 0.062141918 | F26: 461702 | G26: =IFERROR(F26/F$16,"Missing") -> 0.052624224 | H26: 413566 | I26: =IFERROR(H26/H$16,"Missing") -> 0.061982367 | J26: 517764 | K26: =IFERROR(J26/J$16,"Missing") -> 0.08983523
A27: Interest income | B27: 71000 | C27: =IFERROR(B27/B$16,"Missing") -> 0.0063262942 | D27: 34137 | E27: =IFERROR(D27/D$16,"Missing") -> 0.0033933926 | F27: 19726 | G27: =IFERROR(F27/F$16,"Missing") -> 0.0022483451 | H27: 16695 | I27: =IFERROR(H27/H$16,"Missing") -> 0.0025021293 | J27: 27288 | K27: =IFERROR(J27/J$16,"Missing") -> 0.0047346354
A28: Interest expense | B28: 190000 | C28: =IFERROR(B28/B$16,"Missing") -> 0.01692952 | D28: 181712 | E28: =IFERROR(D28/D$16,"Missing") -> 0.018063103 | F28: 173148 | G28: =IFERROR(F28/F$16,"Missing") -> 0.019735195 | H28: 126195 | I28: =IFERROR(H28/H$16,"Missing") -> 0.01891322 | J28: 98089 | K28: =IFERROR(J28/J$16,"Missing") -> 0.017019043
A29: Gain on sale of business | B29: - | C29: =IFERROR(B29/B$16,"Missing") -> Missing | D29: - | E29: =IFERROR(D29/D$16,"Missing") -> Missing | F29: - | G29: =IFERROR(F29/F$16,"Missing") -> Missing | H29: 508810 | I29: =IFERROR(H29/H$16,"Missing") -> 0.076256868 | J29: - | K29: =IFERROR(J29/J$16,"Missing") -> Missing
A30: Foreign exchange rate gains (losses), net | B30: 3000 | C30: =IFERROR(B30/B$16,"Missing") -> 0.00026730821 | D30: -45614 | E30: =IFERROR(D30/D$16,"Missing") -> -0.0045342651 | F30: -15244 | G30: =IFERROR(F30/F$16,"Missing") -> -0.0017374923 | H30: 24787 | I30: =IFERROR(H30/H$16,"Missing") -> 0.0037149014 | J30: 6069 | K30: =IFERROR(J30/J$16,"Missing") -> 0.0010530087
A31: Noncontrolling investment basis adjustment | B31: - | C31: =IFERROR(B31/B$16,"Missing") -> Missing | D31: -1678 | E31: =IFERROR(D31/D$16,"Missing") -> -0.00016680179 | F31: - | G31: =IFERROR(F31/F$16,"Missing") -> Missing | H31: -77400 | I31: =IFERROR(H31/H$16,"Missing") -> -0.011600168 | J31: -2783 | K31: =IFERROR(J31/J$16,"Missing") -> -0.00048286757
A32: Losses on minority equity investments, net | B32: 111000 | C32: =IFERROR(B32/B$16,"Missing") -> 0.0098904036 | D32: - | E32: =IFERROR(D32/D$16,"Missing") -> Missing | F32: - | G32: =IFERROR(F32/F$16,"Missing") -> Missing | H32: - | I32: =IFERROR(H32/H$16,"Missing") -> Missing | J32: - | K32: =IFERROR(J32/J$16,"Missing") -> Missing
A33: Other-then-temporary investment impairment | B33: - | C33: =IFERROR(B33/B$16,"Missing") -> Missing | D33: - | E33: =IFERROR(D33/D$16,"Missing") -> Missing | F33: 12117 | G33: =IFERROR(F33/F$16,"Missing") -> 0.0013810807 | H33: - | I33: =IFERROR(H33/H$16,"Missing") -> Missing | J33: - | K33: =IFERROR(J33/J$16,"Missing") -> Missing
A34: Loss on investments, net | B34: - | C34: =IFERROR(B34/B$16,"Missing") -> Missing | D34: -14318 | E34: =IFERROR(D34/D$16,"Missing") -> -0.0014232825 | F34: - | G34: =IFERROR(F34/F$16,"Missing") -> Missing | H34: - | I34: =IFERROR(H34/H$16,"Missing") -> Missing | J34: - | K34: =IFERROR(J34/J$16,"Missing") -> Missing
A35: Equity gains (losses) in unconsolidated affiliates | B35: - | C35: =IFERROR(B35/B$16,"Missing") -> Missing | D35: 232 | E35: =IFERROR(D35/D$16,"Missing") -> 2.3061988e-05 | F35: -1490 | G35: =IFERROR(F35/F$16,"Missing") -> -0.00016982836 | H35: -13 | I35: =IFERROR(H35/H$16,"Missing") -> -1.9483487e-06 | J35: 2743 | K35: =IFERROR(J35/J$16,"Missing") -> 0.00047592733
A36: Other income (expense) | B36: -2000 | C36: =IFERROR(B36/B$16,"Missing") -> -0.00017820547 | D36: -2777 | E36: =IFERROR(D36/D$16,"Missing") -> -0.00027604802 | F36: -2829 | G36: =IFERROR(F36/F$16,"Missing") -> -0.00032244593 | H36: 10912 | I36: =IFERROR(H36/H$16,"Missing") -> 0.0016354139 | J36: 6083 | K36: =IFERROR(J36/J$16,"Missing") -> 0.0010554378
